BEGIN:VCALENDAR
VERSION:2.0
CALSCALE:GREGORIAN
PRODID:-//WordPress//RSVPMaker//EN
METHOD:REQUEST
BEGIN:VEVENT
DTSTAMP:20260424T001821Z
UID:CC1AA436277138F61CDA703991069EAF@rsvpmaker.com
SEQUENCE:0
STATUS:CONFIRMED
DTSTART:20111022T160000Z
DTEND:20111022T170000Z
LOCATION:See\: http\://www.chestnutglen.com/?rsvpmaker=fall-clean-up
SUMMARY:Fall Clean-up
DESCRIPTION:Event info\: http\://www.chestnutglen.com/?rsvpmaker=fall-
 clean-up
END:VEVENT
END:VCALENDAR