BEGIN:VCALENDAR
VERSION:2.0
CALSCALE:GREGORIAN
PRODID:-//WordPress//RSVPMaker//EN
METHOD:REQUEST
BEGIN:VEVENT
DTSTAMP:20260424T013643Z
UID:D240E3D38A8882ECAD8633C8F9C78C9B@rsvpmaker.com
SEQUENCE:0
STATUS:CONFIRMED
DTSTART:20110828T000000Z
DTEND:20110828T010000Z
LOCATION:See\: http\://www.chestnutglen.com/?rsvpmaker=please-rsvp-for
 -chestnut-glen-bbq
SUMMARY:Please RSVP for Chestnut Glen BBQ
DESCRIPTION:Event info\: http\://www.chestnutglen.com/?rsvpmaker=pleas
 e-rsvp-for-chestnut-glen-bbq
END:VEVENT
END:VCALENDAR