BEGIN:VCALENDAR
VERSION:2.0
CALSCALE:GREGORIAN
PRODID:-//WordPress//RSVPMaker//EN
METHOD:REQUEST
BEGIN:VEVENT
DTSTAMP:20260423T172057Z
UID:49AD23D1EC9FA4BD8D77D02681DF5CFA@rsvpmaker.com
SEQUENCE:0
STATUS:CONFIRMED
DTSTART:19700101T000001Z
DTEND:19700101T000001Z
LOCATION:See\: https\://www.chestnutglen.com/?rsvpmaker=formdefault
SUMMARY:Form:Default
DESCRIPTION:Event info\: https\://www.chestnutglen.com/?rsvpmaker=form
 default
END:VEVENT
END:VCALENDAR